BEGIN:VCALENDAR
VERSION:2.0
PRODID:-//North East Labour History - ECPv6.7.1//NONSGML v1.0//EN
CALSCALE:GREGORIAN
METHOD:PUBLISH
X-WR-CALNAME:North East Labour History
X-ORIGINAL-URL:https://nelh.net
X-WR-CALDESC:Events for North East Labour History
REFRESH-INTERVAL;VALUE=DURATION:PT1H
X-Robots-Tag:noindex
X-PUBLISHED-TTL:PT1H
BEGIN:VTIMEZONE
TZID:UTC
BEGIN:STANDARD
TZOFFSETFROM:+0000
TZOFFSETTO:+0000
TZNAME:UTC
DTSTART:20200101T000000
END:STANDARD
END:VTIMEZONE
BEGIN:VEVENT
DTSTART;TZID=UTC:20200505T190000
DTEND;TZID=UTC:20200505T190000
DTSTAMP:20260426T020004
CREATED:20200301T172435Z
LAST-MODIFIED:20200315T125508Z
UID:3722-1588705200-1588705200@nelh.net
SUMMARY:CANCELLED - First Tuesday: John Charlton will talk about the 1931 general election
DESCRIPTION:This meeting has beeen cancelled as part of the measures to limit the Covid 19 outbreak. \nWhere possible\, meetings will be rescheduled once this becomes possible. Notices will appear on this website as soon as this happens.
URL:https://nelh.net/event/first-tuesday-john-charlton-will-talk-about-the-1931-general-election/
LOCATION:The Bridge Hotel\, Castle Square\, Newcastle upon Tyne\, Tyne & Wear\, NE1 1RQ\, United Kingdom
END:VEVENT
END:VCALENDAR