BEGIN:VCALENDAR
VERSION:2.0
PRODID:-//North East Labour History - ECPv6.7.1//NONSGML v1.0//EN
CALSCALE:GREGORIAN
METHOD:PUBLISH
X-ORIGINAL-URL:https://nelh.net
X-WR-CALDESC:Events for North East Labour History
REFRESH-INTERVAL;VALUE=DURATION:PT1H
X-Robots-Tag:noindex
X-PUBLISHED-TTL:PT1H
BEGIN:VTIMEZONE
TZID:Europe/London
BEGIN:DAYLIGHT
TZOFFSETFROM:+0000
TZOFFSETTO:+0100
TZNAME:BST
DTSTART:20200329T010000
END:DAYLIGHT
BEGIN:STANDARD
TZOFFSETFROM:+0100
TZOFFSETTO:+0000
TZNAME:GMT
DTSTART:20201025T010000
END:STANDARD
END:VTIMEZONE
BEGIN:VEVENT
DTSTART;TZID=Europe/London:20201124T190000
DTEND;TZID=Europe/London:20201124T190000
DTSTAMP:20260425T170546
CREATED:20201121T150803Z
LAST-MODIFIED:20201121T153425Z
UID:3881-1606244400-1606244400@nelh.net
SUMMARY:Fourth Tuesday. Nigel Todd will talk about The Excursionists: Who Will Fight For Garibaldi?
DESCRIPTION:Join Zoom Meeting:  \nhttps://us02web.zoom.us/j/84301417060?pwd=d2h5T1lpbHZuVWpwM25yM0V6eThLdz09 \n Meeting ID: 843 0141 7060 Passcode: 687904 \nThe International Brigade of the 1930s was not the first venture of its kind.  Garibaldi’s 1860 campaign to liberate and unify Italy also attracted international volunteers\, not least from Britain.  Several hundred\, including about 18 from Tyneside\, joined a ‘British Legion’ that supported Garibaldi in Sicily and Southern Italy. \nRecruited via Joseph Cowen’s Newcastle Daily Chronicle the Tynesiders overcame attempts to block their departure\, and played a part in Garibaldi’s advance on Naples to overthrow a distinctively despotic local regime. \nOne of the group John Eyre Macklin\, wrote a vivid account of his experiences in the campaign\, and of some of the people he met such as Jessie White Mario\, female Radical journalist\, a frequent speaker at Newcastle political meetings and known as ’the Florence Nightingale of the Garibaldian army.’ \nNigel is a Newcastle City Councillor\, chairs the UK Co-operative College and has published several books and articles on North East political history\, including an autobiography of Joseph Cowen\, and histories of anti-fascism\, and anarchist and socialist land colonies. \n Topic: Tyneside Volunteers for Garibaldi’s Army \n  \n  
URL:https://nelh.net/event/nigel-todd-will-talk-about-the-excursionists-who-will-fight-for-garibaldi/
LOCATION:Zoom
END:VEVENT
END:VCALENDAR