BEGIN:VCALENDAR
VERSION:2.0
PRODID:-//North East Labour History - ECPv6.7.1//NONSGML v1.0//EN
CALSCALE:GREGORIAN
METHOD:PUBLISH
X-WR-CALNAME:North East Labour History
X-ORIGINAL-URL:https://nelh.net
X-WR-CALDESC:Events for North East Labour History
REFRESH-INTERVAL;VALUE=DURATION:PT1H
X-Robots-Tag:noindex
X-PUBLISHED-TTL:PT1H
BEGIN:VTIMEZONE
TZID:Europe/London
BEGIN:DAYLIGHT
TZOFFSETFROM:+0000
TZOFFSETTO:+0100
TZNAME:BST
DTSTART:20210328T010000
END:DAYLIGHT
BEGIN:STANDARD
TZOFFSETFROM:+0100
TZOFFSETTO:+0000
TZNAME:GMT
DTSTART:20211031T010000
END:STANDARD
END:VTIMEZONE
BEGIN:VEVENT
DTSTART;TZID=Europe/London:20210202T190000
DTEND;TZID=Europe/London:20210202T190000
DTSTAMP:20260425T124154
CREATED:20210114T113805Z
LAST-MODIFIED:20210129T132758Z
UID:4080-1612292400-1612292400@nelh.net
SUMMARY:First Tuesday: Paul Gailiunas on John Marshall: Printer\, Librarian and Radical
DESCRIPTION:Join Zoom Meeting\nhttps://us02web.zoom.us/j/83417499047?pwd=R2I3aG53b0NHZk1wa1JPU3J5TXZKZz09 \nMeeting ID: 834 1749 9047\nPasscode: 726616 \nJohn Marshall was very well-known in Gateshead and Newcastle in the first third of the nineteenth century\, and there are references to him in a variety of contexts. \nThe evidence that has survived contradicts some of the assumptions made by previous authors\, especially around the winter of 1816/1817\, when he first became politically active. Although politics seems to have become less important to him by the mid-1820s\, he was present at a political meeting in 1830\, and he printed radical material until 1831\, when his business collapsed and he disappears from the record. \nPaul Gailiunas took early retirement from teaching in 2007 and has researched and published on a variety of topics including local history.
URL:https://nelh.net/event/first-tuesday-paul-gailiunas-on-john-marshall-printer-librarian-and-radical/
LOCATION:Zoom
END:VEVENT
END:VCALENDAR