BEGIN:VCALENDAR
VERSION:2.0
PRODID:-//North East Labour History - ECPv6.7.1//NONSGML v1.0//EN
CALSCALE:GREGORIAN
METHOD:PUBLISH
X-WR-CALNAME:North East Labour History
X-ORIGINAL-URL:https://nelh.net
X-WR-CALDESC:Events for North East Labour History
REFRESH-INTERVAL;VALUE=DURATION:PT1H
X-Robots-Tag:noindex
X-PUBLISHED-TTL:PT1H
BEGIN:VTIMEZONE
TZID:Europe/London
BEGIN:DAYLIGHT
TZOFFSETFROM:+0000
TZOFFSETTO:+0100
TZNAME:BST
DTSTART:20210328T010000
END:DAYLIGHT
BEGIN:STANDARD
TZOFFSETFROM:+0100
TZOFFSETTO:+0000
TZNAME:GMT
DTSTART:20211031T010000
END:STANDARD
END:VTIMEZONE
BEGIN:VEVENT
DTSTART;TZID=Europe/London:20210213T100000
DTEND;TZID=Europe/London:20210213T100000
DTSTAMP:20260425T124157
CREATED:20210114T114444Z
LAST-MODIFIED:20210114T114512Z
UID:4082-1613210400-1613210400@nelh.net
SUMMARY:British Association for Local History Digital Workshop : (Postgrad students only) How to get your local history research out there!
DESCRIPTION:Please note that this session is only available to students registered on a recognised Masters or PhD course of study at an HEI. ECRs who are within 5 years of completing their PhD are also welcome to attend. \nDetails and booking \nWorkshop on Public Engagement and Collaborative Working (a student special) with Claire Kennan (BALH) \nPractical guidance on how academic research can be communicated to wider audiences\, the opportunities that are available for collaborative and partnership working and how your research can have an impact in the wider world. In particular\, it will focus on the specific support and opportunities offered by BALH ranging from writing blog posts to producing podcasts\, working with teachers\, local history societies\, museums and much more.
URL:https://nelh.net/event/british-association-for-local-history-digital-workshop-postgrad-students-only-how-to-get-your-local-history-research-out-there/
END:VEVENT
END:VCALENDAR