BEGIN:VCALENDAR
VERSION:2.0
PRODID:-//North East Labour History - ECPv6.7.1//NONSGML v1.0//EN
CALSCALE:GREGORIAN
METHOD:PUBLISH
X-ORIGINAL-URL:https://nelh.net
X-WR-CALDESC:Events for North East Labour History
REFRESH-INTERVAL;VALUE=DURATION:PT1H
X-Robots-Tag:noindex
X-PUBLISHED-TTL:PT1H
BEGIN:VTIMEZONE
TZID:Europe/London
BEGIN:DAYLIGHT
TZOFFSETFROM:+0000
TZOFFSETTO:+0100
TZNAME:BST
DTSTART:20210328T010000
END:DAYLIGHT
BEGIN:STANDARD
TZOFFSETFROM:+0100
TZOFFSETTO:+0000
TZNAME:GMT
DTSTART:20211031T010000
END:STANDARD
END:VTIMEZONE
BEGIN:VEVENT
DTSTART;TZID=Europe/London:20210302T173000
DTEND;TZID=Europe/London:20210302T190000
DTSTAMP:20260425T142025
CREATED:20210114T121150Z
LAST-MODIFIED:20210213T121251Z
UID:4087-1614706200-1614711600@nelh.net
SUMMARY:Professor John Bradshaw: Child poverty in the North East region. Event celebrating the life and contribution of Professor John Veit-Wilson
DESCRIPTION:Attendance details here \nProfessor John Veit-Wilson \nCelebrating the life and contribution of Professor John Veit-Wilson and the move of the North East Child Poverty Commission to Newcastle University\, this lecture will consider the evidence on the most recent trends and spatial distribution of child poverty in the North East\, reflecting on the strengths and weaknesses of that evidence\, in particular in the context of Covid-19. It will also include a review of the impact of the post-Covid interventions and prescribe an agenda for future action. \n  \n  \n  \nProfessor Jonathan Bradshaw \n  \n  \n  \nJonathan Bradshaw is Emeritus Professor of Social Policy at the University of York. He was appointed Commander of the British Empire (CBE) in 2005 for services to child poverty and Fellow of the British Academy in 2010. He is a Board member of the Child Poverty Action Group and Chair of their Policy Committee. \nLive Q&A:\nThe lecture will be followed by a live Q&A with the speaker. You can submit a question in advance by sending an email to public.lectures@ncl.ac.uk or during the event using YouTube Live Chat or via Twitter @InsightsNCL. \nThis event will be hosted on YouTube\, registration is not required.
URL:https://nelh.net/event/professor-john-bradshaw-child-poverty-in-the-north-east-region-event-celebrating-the-life-and-contribution-of-professor-john-veit-wilson/
LOCATION:You tube
END:VEVENT
END:VCALENDAR