BEGIN:VCALENDAR
VERSION:2.0
PRODID:-//North East Labour History - ECPv6.7.1//NONSGML v1.0//EN
CALSCALE:GREGORIAN
METHOD:PUBLISH
X-ORIGINAL-URL:https://nelh.net
X-WR-CALDESC:Events for North East Labour History
REFRESH-INTERVAL;VALUE=DURATION:PT1H
X-Robots-Tag:noindex
X-PUBLISHED-TTL:PT1H
BEGIN:VTIMEZONE
TZID:Europe/London
BEGIN:DAYLIGHT
TZOFFSETFROM:+0000
TZOFFSETTO:+0100
TZNAME:BST
DTSTART:20210328T010000
END:DAYLIGHT
BEGIN:STANDARD
TZOFFSETFROM:+0100
TZOFFSETTO:+0000
TZNAME:GMT
DTSTART:20211031T010000
END:STANDARD
END:VTIMEZONE
BEGIN:VEVENT
DTSTART;TZID=Europe/London:20210310T180000
DTEND;TZID=Europe/London:20210310T193000
DTSTAMP:20260425T124312
CREATED:20210114T114713Z
LAST-MODIFIED:20210213T121224Z
UID:4085-1615399200-1615404600@nelh.net
SUMMARY:British Association for Local History Digital Webinar: How to grow your local history social media presence
DESCRIPTION:A one-hour webinar with BALH’s Social Media Fellow\, Daniella Gonzalez. \nDaniella will provide an introduction to the various social media platforms available and how local history societies can best use them to promote their work and engage with the wider history community. \nDetails and booking
URL:https://nelh.net/event/british-association-for-local-history-digital-webinar-how-to-grow-your-local-history-social-media-presence/
END:VEVENT
END:VCALENDAR