BEGIN:VCALENDAR
VERSION:2.0
PRODID:-//North East Labour History - ECPv6.7.1//NONSGML v1.0//EN
CALSCALE:GREGORIAN
METHOD:PUBLISH
X-ORIGINAL-URL:https://nelh.net
X-WR-CALDESC:Events for North East Labour History
REFRESH-INTERVAL;VALUE=DURATION:PT1H
X-Robots-Tag:noindex
X-PUBLISHED-TTL:PT1H
BEGIN:VTIMEZONE
TZID:Europe/London
BEGIN:DAYLIGHT
TZOFFSETFROM:+0000
TZOFFSETTO:+0100
TZNAME:BST
DTSTART:20210328T010000
END:DAYLIGHT
BEGIN:STANDARD
TZOFFSETFROM:+0100
TZOFFSETTO:+0000
TZNAME:GMT
DTSTART:20211031T010000
END:STANDARD
END:VTIMEZONE
BEGIN:VEVENT
DTSTART;TZID=Europe/London:20210327T100000
DTEND;TZID=Europe/London:20210327T110000
DTSTAMP:20260425T124312
CREATED:20210307T150054Z
LAST-MODIFIED:20210307T150222Z
UID:4363-1616839200-1616842800@nelh.net
SUMMARY:Mike Fraser. History through a Northumbrian Lens: Sir Charles Trevelyan
DESCRIPTION:History through a Northumbrian Lens: Part One; Individual Lectures Tickets\, Sat 13 Mar 2021 at 10:00 | Eventbrite \nMike will examine the public and turbulent private lives of these three men in the context of key historical events: \n27 March – Sir Charles Trevelyan was a Liberal MP from a similar aristocratic background to Sir Edward Grey who opposed his policies in 1914 and bravely campaigned for peace. Later he resigned from the first two Labour cabinets because they were ‘too right-wing’. Subsequently he devoted himself to his estate which he famously ‘gave away to the nation’ in 1941.
URL:https://nelh.net/event/mike-fraser-history-through-a-northumbrian-lens-sir-charles-trevelyane/
END:VEVENT
END:VCALENDAR