BEGIN:VCALENDAR
VERSION:2.0
PRODID:-//North East Labour History - ECPv6.7.1//NONSGML v1.0//EN
CALSCALE:GREGORIAN
METHOD:PUBLISH
X-ORIGINAL-URL:https://nelh.net
X-WR-CALDESC:Events for North East Labour History
REFRESH-INTERVAL;VALUE=DURATION:PT1H
X-Robots-Tag:noindex
X-PUBLISHED-TTL:PT1H
BEGIN:VTIMEZONE
TZID:Europe/London
BEGIN:DAYLIGHT
TZOFFSETFROM:+0000
TZOFFSETTO:+0100
TZNAME:BST
DTSTART:20210328T010000
END:DAYLIGHT
BEGIN:STANDARD
TZOFFSETFROM:+0100
TZOFFSETTO:+0000
TZNAME:GMT
DTSTART:20211031T010000
END:STANDARD
END:VTIMEZONE
BEGIN:VEVENT
DTSTART;TZID=Europe/London:20211006T140000
DTEND;TZID=Europe/London:20211006T150000
DTSTAMP:20260422T235759
CREATED:20211006T094430Z
LAST-MODIFIED:20211006T094430Z
UID:4959-1633528800-1633532400@nelh.net
SUMMARY:Frank Palmeri will talk about Newcastle born eighteenth century satirist and utopian writer Thomas Spence
DESCRIPTION:Thomas Spence has been recognised as the most important socialist thinker of the 1790s. He was also a strong satirist of aristocracy and of land-holders generally. \nThis talk will consider Spence as a satirist and utopian writer\, and will conclude by considering parallels between the thought and writing of Spence and of William Morris a century later. \nFrank Palmeri is Emeritus Professor of English at the University of Miami. \nTo join us for this talk\, which is running only online\, please click on the link below shortly before 2pm on Wednesday: \nhttps://us02web.zoom.us/j/86919364393?pwd=K2ZSVjc1NlFnUHJWdzdzaDJnOUpDQT09 \nMeeting ID: 869 1936 4393\nPasscode: 363581 \nThe talk will also be recorded for later viewing on our YouTube channel. \nThomas Spence \nThomas Spence was born in Newcastle in 1750. Spence was the leading English revolutionary of his day\, with an unbudgeable commitment to individual and press freedom and the common ownership of the land. \nHis tracts\, such as The Rights of Man (Spence was\, perhaps\, the first to use the phrase) and The Rights of Infants\, along with his utopian visions of ‘Crusonia’ and ‘Spensonia’\, were the most far-reaching radical statements of the period. Spence was born in poverty and died the same way\, after long periods of imprisonment\, in 1814. \nAlthough sometimes hailed as England’s ‘first modern socialist’\, Spence is not easily corralled by later ideologies. He was a mortal enemy of tyranny and what he called ‘giantism’ of all kinds.
URL:https://nelh.net/event/frank-palmeri-will-talk-about-newcastle-born-eighteenth-century-satirist-and-utopian-writer-thomas-spence/
LOCATION:Zoom
END:VEVENT
END:VCALENDAR