BEGIN:VCALENDAR
VERSION:2.0
PRODID:-//North East Labour History - ECPv6.7.1//NONSGML v1.0//EN
CALSCALE:GREGORIAN
METHOD:PUBLISH
X-WR-CALNAME:North East Labour History
X-ORIGINAL-URL:https://nelh.net
X-WR-CALDESC:Events for North East Labour History
REFRESH-INTERVAL;VALUE=DURATION:PT1H
X-Robots-Tag:noindex
X-PUBLISHED-TTL:PT1H
BEGIN:VTIMEZONE
TZID:Europe/London
BEGIN:DAYLIGHT
TZOFFSETFROM:+0000
TZOFFSETTO:+0100
TZNAME:BST
DTSTART:20210328T010000
END:DAYLIGHT
BEGIN:STANDARD
TZOFFSETFROM:+0100
TZOFFSETTO:+0000
TZNAME:GMT
DTSTART:20211031T010000
END:STANDARD
END:VTIMEZONE
BEGIN:VEVENT
DTSTART;TZID=Europe/London:20211014T190000
DTEND;TZID=Europe/London:20211014T213000
DTSTAMP:20260422T234602
CREATED:20210901T165527Z
LAST-MODIFIED:20210901T165527Z
UID:4873-1634238000-1634247000@nelh.net
SUMMARY:Tyneside Irish Festival: Film – Kathleen and Me (Talk and Q and A from writer and actor Janet Behan)
DESCRIPTION:A film by Janet Behan about her grandmother\, Kathleen Behan. Not just a portrait of this extraordinary woman\, but a vivid\, eye-witness account of the birth of the Irish Republic. It’s full of great stories and songs\, some of them written by Kathleen’s brother\, Peadar\, writer of the lyrics to The Soldier’s Song. Kathleen also talks candidly and movingly about her son\, “little poet\,” Brendan. \nAt the age of 91\, Kathleen Behan was persuaded to record her memories on tape by her son Brian. That same year she recorded the ballads and rebel songs she’d been singing all her life. The memories became a book\, the songs an LP. \nKathleen lived through the Easter Rising\, the War of Independence and the Civil war. She took an active role in the fight for an Irish Republic\, surviving near starvation and grinding poverty and holding her family together through thick and thin. Her ‘golden boy’ Brendan\, became famous worldwide for his plays and books only to die tragically young. But\, as Kathleen says\, “You may as well sing grief as cry it…”Combining source material with her own memories of her grandmother\, Janet Behan with Jessica Higgs have created ‘Kathleen and Me’ — a memoir of this indomitable woman. \nOctober 14 @ 7:00 pm – 9:30 pm – Tyneside Irish Centre. This event is on a pay as you feel basis. Suggested donation £5. Doors open 7pm. Talk and Film 8pm.
URL:https://nelh.net/event/tyneside-irish-festival-film-kathleen-and-me-talk-and-q-and-a-from-writer-and-actor-janet-behan/
LOCATION:Tyneside Irish Centre\, 43 Gallowgate\, Newcastle upon Tyne\, NE1 4SG\, United Kingdom
END:VEVENT
END:VCALENDAR