BEGIN:VCALENDAR
VERSION:2.0
PRODID:-//North East Labour History - ECPv6.7.1//NONSGML v1.0//EN
CALSCALE:GREGORIAN
METHOD:PUBLISH
X-ORIGINAL-URL:https://nelh.net
X-WR-CALDESC:Events for North East Labour History
REFRESH-INTERVAL;VALUE=DURATION:PT1H
X-Robots-Tag:noindex
X-PUBLISHED-TTL:PT1H
BEGIN:VTIMEZONE
TZID:Europe/London
BEGIN:DAYLIGHT
TZOFFSETFROM:+0000
TZOFFSETTO:+0100
TZNAME:BST
DTSTART:20210328T010000
END:DAYLIGHT
BEGIN:STANDARD
TZOFFSETFROM:+0100
TZOFFSETTO:+0000
TZNAME:GMT
DTSTART:20211031T010000
END:STANDARD
END:VTIMEZONE
BEGIN:VEVENT
DTSTART;VALUE=DATE:20211016
DTEND;VALUE=DATE:20211018
DTSTAMP:20260422T235828
CREATED:20210712T135821Z
LAST-MODIFIED:20210712T135930Z
UID:4530-1634349600-1634435999@nelh.net
SUMMARY:Two Book Launch Events: Ed Waugh's Geordie Plays (Volume One)
DESCRIPTION:From Ed Waugh \nI worked with Dave Harker who kindly allowed me to use his incredible research for my play The Great Joe Wilson. Many of you came to see the show (and Mr Corvan’s Music Hall\, based on Dave’s excellent book about Ned Corvan) so you may be interested in Geordie Plays (Volume One). \nThe book comprising Hadaway Harry\, The Great Joe Wilson and Carrying David is out now and was recently included in a small time capsule buried by Newcastle Cathedral. It won’t be opened until June 2121\, which will mean these fantastic stories of forgotten Geordie heroes will be available for future generations. I doubt I’ll be around to see that\, though. \nIf you want to attend the official book launch in October (Saturday 16) at Newcastle City Library there will be two talks. One at 2pm which will be an illustrated talk and costs nothing. The second will take place at 7pm and will include songs and entertainment from the cast. A show! Tickets for this performance will be £3. \nObviously\, this is subject to what happens with the pandemic and could change but we are very confident the talks will go ahead on that date. If you let me know how many tickets you need and the time (2pm or 7pm\, or both) I’ll pass your email on to Derek Tree from Tyne Bridge Publishing so you are guaranteed a ticket(s). \nCarrying David is touring the North East in September and Hadaway Harry next June. Both are going to London. \nhttps://www.wisecrackproductions.co.uk/carrying-david \n https://www.hadawayharry.co.uk/tour-dates \nYou may also be interested in two new plays – Wor Bella and Howay The Lasses. Both deal with munitionette footballers in World War One. Hundreds of women’s football teams were formed nationally (many dozens in the North East) and raised money for charity. Matches attracted hundreds\, even thousands\, of spectators\, including 20\,000 at St James’ Park Newcastle in 1918 for the Munitionettes Cup final and 23\,000 at Ayresome Park\, Middlesbrough\, for the replay. \nThe story of these brave and selfless working class women (munitionettes) who saved the war effort in WW1 is incredible and intriguing – a story that has been largely ignored\, especially by the educational establishment. \nHoway the Lasses is a Durham Gala production and a generic story\, based on actual events locally and nationally. \nhttps://galadurham.co.uk/galapost/howay-the-lasses \nWor Bella is a Wisecrack production about Bella Reay\, the star of Blyth Spartans Ladies who scored 133 goals in 30 matches and is known as “the Alan Shearer of her day”. \nwww.worbella.co.uk \nBoth shows will rock! \nEd \nhttps://www.wisecrackproductions.co.uk/ \nThe book can be bought from the Tyne Bridge Publishing websitehttps://www.newcastle.gov.uk/www.tynebridgepublishing.org.uk and online at Waterstones\, Blackwell’s\, WH Smiths\, Amazon\, Wordery and Foyles. \nIt is available in shops: Waterstones\, Meander\, The Baltic and Newcastle City Library (soon). \nOther shops and museum shops around the region will be supplied by Northern Heritage\, a book distributor.
URL:https://nelh.net/event/book-launch-ed-waughs-geordie-plays-volume-one/
LOCATION:Newcastle City Library
END:VEVENT
BEGIN:VEVENT
DTSTART;VALUE=DATE:20211016
DTEND;VALUE=DATE:20211024
DTSTAMP:20260422T235828
CREATED:20211013T143943Z
LAST-MODIFIED:20211013T144202Z
UID:4974-1634349600-1634954399@nelh.net
SUMMARY:Taste of Africa: Two Events
DESCRIPTION:Taste of Africa events is an annual celebration of Black History Month in Tees Valley. The events are aimed at celebrating Black History Month\, promoting diversity and inclusion in the Tees Valley. \nThis year due to Covid restrictions all our events will be held virtually with the aim of returning to normality next year. See: www.facebook.com/tasteofafrica.northeast \nThe Taste of Africa Showcase (Virtual) in its 17th year will take place on the Saturday 16th October 2021 6pm-9pm.  This hugely popular event is a showcase of traditional performances\, local talents and artists\, music\, designer African fashion show\, food\, youth dance groups and more. Also as part of the event we will also showcase the inspirational project Irin Ajo Mi – My Journey developed by our young people celebrating the journeys of African elders in Tees Valley. \nTaste of Africa is holding its 7th Annual Black History Youth Awards Dinner (Virtual) on Friday 22nd October 2021 from 6pm-9pm. This event recognises achievement of young people and promotes positive role models in the community. This year our Award is focused on Resilience. The evening will feature young people doing great things and also recognise past recipients who have gone on to achieve great heights.
URL:https://nelh.net/event/taste-of-africa-two-events/
LOCATION:Zoom
END:VEVENT
BEGIN:VEVENT
DTSTART;TZID=Europe/London:20211016T143000
DTEND;TZID=Europe/London:20211016T170000
DTSTAMP:20260422T235828
CREATED:20211013T141635Z
LAST-MODIFIED:20211013T141635Z
UID:4964-1634394600-1634403600@nelh.net
SUMMARY:Teakisi Woman Talk - 2021: A Black History Month session focusing on African women and the community
DESCRIPTION:Teakisi is happy to announce the third annual Teakisi Woman Talk conference. This event takes place in October\, which is also Black History Month. The annual Teakisi Woman Talk allows black women\, plus the general public to have a conversation on topics that really matter to us – however uncomfortable they may be. \nYou can book tickets here.
URL:https://nelh.net/event/teakisi-woman-talk-2021-a-black-history-month-session-focusing-on-african-women-and-the-community/
LOCATION:The Common Room\, Westgate Road\, Newcastle upon Tyne\, NE1 1SE
END:VEVENT
END:VCALENDAR