BEGIN:VCALENDAR
VERSION:2.0
PRODID:-//North East Labour History - ECPv6.7.1//NONSGML v1.0//EN
CALSCALE:GREGORIAN
METHOD:PUBLISH
X-ORIGINAL-URL:https://nelh.net
X-WR-CALDESC:Events for North East Labour History
REFRESH-INTERVAL;VALUE=DURATION:PT1H
X-Robots-Tag:noindex
X-PUBLISHED-TTL:PT1H
BEGIN:VTIMEZONE
TZID:Europe/London
BEGIN:DAYLIGHT
TZOFFSETFROM:+0000
TZOFFSETTO:+0100
TZNAME:BST
DTSTART:20210328T010000
END:DAYLIGHT
BEGIN:STANDARD
TZOFFSETFROM:+0100
TZOFFSETTO:+0000
TZNAME:GMT
DTSTART:20211031T010000
END:STANDARD
END:VTIMEZONE
BEGIN:VEVENT
DTSTART;TZID=Europe/London:20211030T110000
DTEND;TZID=Europe/London:20211030T120000
DTSTAMP:20260422T235828
CREATED:20211028T132142Z
LAST-MODIFIED:20211028T132215Z
UID:4997-1635591600-1635595200@nelh.net
SUMMARY:Newcastle: Spanish Civil War Commemoration Event
DESCRIPTION:From Martin Levy\n\nThe Communist Party is planning\, in conjunction with members of the International Brigade Memorial Trust\, to repeat last year’s North East commemoration events for the ‘Volunteers for Liberty’ from the North East who gave their lives in Spain. \nThe Newcastle event will be at the International Brigade memorial in the grounds of the Civic Centre at 11.00am on Saturday 30 October. \nThe event will be relatively short\, and will involve speeches\, poetry\, the reading of the names of the fallen.
URL:https://nelh.net/event/4997/
LOCATION:Grounds of Newcastle Civic Centre
END:VEVENT
END:VCALENDAR