BEGIN:VCALENDAR
VERSION:2.0
PRODID:-//North East Labour History - ECPv6.7.1//NONSGML v1.0//EN
CALSCALE:GREGORIAN
METHOD:PUBLISH
X-WR-CALNAME:North East Labour History
X-ORIGINAL-URL:https://nelh.net
X-WR-CALDESC:Events for North East Labour History
REFRESH-INTERVAL;VALUE=DURATION:PT1H
X-Robots-Tag:noindex
X-PUBLISHED-TTL:PT1H
BEGIN:VTIMEZONE
TZID:Europe/London
BEGIN:DAYLIGHT
TZOFFSETFROM:+0000
TZOFFSETTO:+0100
TZNAME:BST
DTSTART:20210328T010000
END:DAYLIGHT
BEGIN:STANDARD
TZOFFSETFROM:+0100
TZOFFSETTO:+0000
TZNAME:GMT
DTSTART:20211031T010000
END:STANDARD
END:VTIMEZONE
BEGIN:VEVENT
DTSTART;TZID=Europe/London:20211214T190000
DTEND;TZID=Europe/London:20211214T210000
DTSTAMP:20260422T205519
CREATED:20211208T120853Z
LAST-MODIFIED:20211208T120853Z
UID:5024-1639508400-1639515600@nelh.net
SUMMARY:The Society's Christmas Quiz
DESCRIPTION:The Society’s Christmas Quiz takes place next Tuesday 14 December at 7.00pm \n\n\nPeter Brabban and Pat Candon will test your historical knowledge (to its limit) and after that you are welcome to stay for the ‘chat’. \n\n\nJoin Zoom Meeting \n\n\nhttps://us02web.zoom.us/j/84946680511?pwd=NEdSNFdDd1JLZFEwS1ZwYTlYOHNJdz09 \n\n\nMeeting ID: 849 4668 0511 \n\nPasscode: 918050
URL:https://nelh.net/event/the-societys-christmas-quiz/
LOCATION:Zoom
END:VEVENT
END:VCALENDAR