BEGIN:VCALENDAR
VERSION:2.0
PRODID:-//North East Labour History - ECPv6.7.1//NONSGML v1.0//EN
CALSCALE:GREGORIAN
METHOD:PUBLISH
X-WR-CALNAME:North East Labour History
X-ORIGINAL-URL:https://nelh.net
X-WR-CALDESC:Events for North East Labour History
REFRESH-INTERVAL;VALUE=DURATION:PT1H
X-Robots-Tag:noindex
X-PUBLISHED-TTL:PT1H
BEGIN:VTIMEZONE
TZID:Europe/London
BEGIN:DAYLIGHT
TZOFFSETFROM:+0000
TZOFFSETTO:+0100
TZNAME:BST
DTSTART:20230326T010000
END:DAYLIGHT
BEGIN:STANDARD
TZOFFSETFROM:+0100
TZOFFSETTO:+0000
TZNAME:GMT
DTSTART:20231029T010000
END:STANDARD
END:VTIMEZONE
BEGIN:VEVENT
DTSTART;TZID=Europe/London:20230606T120000
DTEND;TZID=Europe/London:20230606T153000
DTSTAMP:20260421T165948
CREATED:20230424T153748Z
LAST-MODIFIED:20230424T154028Z
UID:5635-1686052800-1686065400@nelh.net
SUMMARY:You are invited to Washington Heritage Partnership’s Summer Networking Event
DESCRIPTION:Tuesday 6th June 2023\, North East Land\, Sea and Air Museum\, from 12noon \nThose of you who attended our introductory event in February will be aware of how productive it was in helping everyone to find out more about how the Washington Heritage Partnership can benefit you and your groups/organisations.  Come along to our summer event\, which will be another great chance to bounce around ideas\, to explore the museum\, and also to hear from: \n\n Lizzy Baker of Tyne and Wear Archives and Museums will tell us about collections management and conservation: how do we best curate what we have?\nProject Choices will give some insights into how heritage volunteering can enhance the life- and work- skills of young people with autism\n\nThe event will also provide an opportunity for updates on:  \n\nFunding opportunities and grants for heritage and cultural organisation operating in Washington\, including an update on our Small Grants programme.\nFree and bespoke training and support opportunities.\n\nMost of all\, we want to hear from you! Share your insights and approaches\, and tell us what we can do to enrich the heritage offer in Washington. \nEvent itinerary \n  \n\n\n\n\n  \n\n\n12:00-1:00pm \n\n\nLunch\, networking and a chance to explore the museum  \n\n\n\n\n  \n\n\n1:00-1:30pm \n\n\nUpdates on Partnership Activities \n\n\n\n\n  \n\n\n1:30-1:50pm \n\n\nProject Choices – supporting young people with autism to become heritage volunteers \n\n\n\n\n  \n\n\n1:50-2:00pm \n\n\nComfort Break \n\n\n\n\n  \n\n\n2:00-3:00pm \n\n\nLizzy Baker\, TWAM – conservation\, curation and collections.  How do we care for and record the resources we hold? \n\n\n\n\n  \n\n\n3:00-3:30pm \n\n\nNetworking \n\n\n\n\n  \n\n\n3:30pm \n\n\nClose \n\n\n\n\nPlease RSVP by 5pm Friday 26th May so we can confirm catering\, either via this form or by replying to me at judithmurphy@communityopportunities.co.uk\, letting us know if you have any special dietary requirements. \nLooking forward to seeing you there. \nAll the best\nJude Murphy\nHeritage and Culture Development Coordinator\nWashington Heritage Partnership
URL:https://nelh.net/event/you-are-invited-to-washington-heritage-partnerships-summer-networking-event/
LOCATION:North East Land\, Sea and Air Museum\, Washington Road\, Sunderland\, SR5 3HZ
END:VEVENT
END:VCALENDAR