BEGIN:VCALENDAR
VERSION:2.0
PRODID:-//North East Labour History - ECPv6.7.1//NONSGML v1.0//EN
CALSCALE:GREGORIAN
METHOD:PUBLISH
X-ORIGINAL-URL:https://nelh.net
X-WR-CALDESC:Events for North East Labour History
REFRESH-INTERVAL;VALUE=DURATION:PT1H
X-Robots-Tag:noindex
X-PUBLISHED-TTL:PT1H
BEGIN:VTIMEZONE
TZID:Europe/London
BEGIN:DAYLIGHT
TZOFFSETFROM:+0000
TZOFFSETTO:+0100
TZNAME:BST
DTSTART:20230326T010000
END:DAYLIGHT
BEGIN:STANDARD
TZOFFSETFROM:+0100
TZOFFSETTO:+0000
TZNAME:GMT
DTSTART:20231029T010000
END:STANDARD
END:VTIMEZONE
BEGIN:VEVENT
DTSTART;TZID=Europe/London:20230706T190000
DTEND;TZID=Europe/London:20230706T230000
DTSTAMP:20260421T153044
CREATED:20230930T112101Z
LAST-MODIFIED:20230930T112101Z
UID:5798-1688670000-1688684400@nelh.net
SUMMARY:Songs and Politics of the Durham Coalfield
DESCRIPTION:Join Education4Action in celebrating the songs and politics of the Durham Coalfield with the Folk Music singer/songwriters The Elliot’s of Birtley\, and Benny Graham\, Pitmen Poet and giant of the North East Folk Scene. Mary Foy MP will also be speaking at the event and there will be a talk from Robert Gildea on his new book ‘Backbone of the Nation – the story of the support groups in 1984/5’ which E4A contributed to. \nBill Elliott (Elliott’s of Birtley) and Kevin Youldon have played Folk Music together for over 30 years and are well-known on the North East Folk scene. Ken Tonge is a fine Folk musician originally from Lancashire who is well-known on the local folk scene and has performed in Folk Clubs\, Festivals etc. for over 50 years. They all regularly perform in Beamish Museum and other venues. \nBenny Graham served his musical apprenticeship from 1967 in the folksong clubs of North East England such as in Birtley\, run by the Elliott family\, and Newcastle Folksong and Ballad (which featured among its regulars the High Level Ranters and Lou Killen) were at the forefront of the British folk revival. \nReal ale & bar food \nTickets: £5 on the door. Register in advance by emailing kathleenhconnolly@hotmail.co.uk
URL:https://nelh.net/event/songs-and-politics-of-the-durham-coalfield/
LOCATION:Durham City Rugby Club
END:VEVENT
END:VCALENDAR