BEGIN:VCALENDAR
VERSION:2.0
PRODID:-//North East Labour History - ECPv6.7.1//NONSGML v1.0//EN
CALSCALE:GREGORIAN
METHOD:PUBLISH
X-WR-CALNAME:North East Labour History
X-ORIGINAL-URL:https://nelh.net
X-WR-CALDESC:Events for North East Labour History
REFRESH-INTERVAL;VALUE=DURATION:PT1H
X-Robots-Tag:noindex
X-PUBLISHED-TTL:PT1H
BEGIN:VTIMEZONE
TZID:Europe/London
BEGIN:DAYLIGHT
TZOFFSETFROM:+0000
TZOFFSETTO:+0100
TZNAME:BST
DTSTART:20230326T010000
END:DAYLIGHT
BEGIN:STANDARD
TZOFFSETFROM:+0100
TZOFFSETTO:+0000
TZNAME:GMT
DTSTART:20231029T010000
END:STANDARD
END:VTIMEZONE
BEGIN:VEVENT
DTSTART;TZID=Europe/London:20230822T190000
DTEND;TZID=Europe/London:20230822T203000
DTSTAMP:20260421T135211
CREATED:20230428T103609Z
LAST-MODIFIED:20230930T110935Z
UID:5646-1692730800-1692736200@nelh.net
SUMMARY:NELH Tuesday Meeting: Tony Fox will talk about Phyllis Short\, lifelong Teesside Communist
DESCRIPTION:Behind every great man there’s a great woman\, or so goes the old adage. Phyllis Short was the wife of George Short\, the Communist Party District Secretary for Teesside\, but simply saying this disguises the campaigns for social justice that she herself led. \nBorn into the mining community of Chopwell\, when they moved to Stockton in 1931 they began a lifetime’s campaign to improve the lives of people on Teesside and beyond. This talk will describe Phyllis’ eventful life\, highlighting the ways she fought against injustice locally\, nationally and internationally during the most turbulent period of the 20th Century. Her friends and family remember her as a working-class hero\, who faced down all enemies to champion a better and fairer society\, this talk aims to show why she should be remembered by a much wider audience. \nTony Fox\, a history teacher\, chaired the Durham Branch of the Historical Association for fifteen years. Author of I sing of My comrades: remembering Stockton’s International Brigaders\, he is a member of the International Brigade Memorial Trust and has published a number of articles on International Brigade volunteers and memorials. This latest talk is the result of recent research and collaboration with the family of George and Phyllis Short. \nHere’s the link: \nJoin Zoom Meeting \nhttps://us02web.zoom.us/j/85072858100?pwd=cE1NNzJ4RUlvNHVSbFVtWnRlbS9Odz09 \nMeeting ID: 850 7285 8100 \nPasscode: 447195
URL:https://nelh.net/event/nelh-tuesday-meeting-tony-fox-will-talk-about-phyllis-short-lifelong-teesside-communist/
LOCATION:Venue to be notified
END:VEVENT
END:VCALENDAR