BEGIN:VCALENDAR
VERSION:2.0
PRODID:-//North East Labour History - ECPv6.7.1//NONSGML v1.0//EN
CALSCALE:GREGORIAN
METHOD:PUBLISH
X-WR-CALNAME:North East Labour History
X-ORIGINAL-URL:https://nelh.net
X-WR-CALDESC:Events for North East Labour History
REFRESH-INTERVAL;VALUE=DURATION:PT1H
X-Robots-Tag:noindex
X-PUBLISHED-TTL:PT1H
BEGIN:VTIMEZONE
TZID:Europe/London
BEGIN:DAYLIGHT
TZOFFSETFROM:+0000
TZOFFSETTO:+0100
TZNAME:BST
DTSTART:20260329T010000
END:DAYLIGHT
BEGIN:STANDARD
TZOFFSETFROM:+0100
TZOFFSETTO:+0000
TZNAME:GMT
DTSTART:20261025T010000
END:STANDARD
END:VTIMEZONE
BEGIN:VEVENT
DTSTART;TZID=Europe/London:20260505T190000
DTEND;TZID=Europe/London:20260505T210000
DTSTAMP:20260421T001613
CREATED:20260205T151831Z
LAST-MODIFIED:20260406T151938Z
UID:6455-1778007600-1778014800@nelh.net
SUMMARY:NELH Tuesday Meeting. Lewis Mates will talk about the 1926 General Strike in the North East
DESCRIPTION:Lewis is Associate Professor of Political Theory at Durham University and author of The Great Political Unrest: rank-and file movements and political change in the Durham coalfield
URL:https://nelh.net/event/nelh-tuesday-meeting-lewis-mates-will-talk-about-the-1926-general-strike/
LOCATION:Tyneside Irish Centre\, 43 Gallowgate\, Newcastle upon Tyne\, NE1 4SG\, United Kingdom
END:VEVENT
END:VCALENDAR