BEGIN:VCALENDAR
VERSION:2.0
PRODID:-//North East Labour History - ECPv6.7.1//NONSGML v1.0//EN
CALSCALE:GREGORIAN
METHOD:PUBLISH
X-WR-CALNAME:North East Labour History
X-ORIGINAL-URL:https://nelh.net
X-WR-CALDESC:Events for North East Labour History
REFRESH-INTERVAL;VALUE=DURATION:PT1H
X-Robots-Tag:noindex
X-PUBLISHED-TTL:PT1H
BEGIN:VTIMEZONE
TZID:UTC
BEGIN:STANDARD
TZOFFSETFROM:+0000
TZOFFSETTO:+0000
TZNAME:UTC
DTSTART:20200101T000000
END:STANDARD
TZID:Europe/London
BEGIN:DAYLIGHT
TZOFFSETFROM:+0000
TZOFFSETTO:+0100
TZNAME:BST
DTSTART:20200329T010000
END:DAYLIGHT
BEGIN:STANDARD
TZOFFSETFROM:+0100
TZOFFSETTO:+0000
TZNAME:GMT
DTSTART:20201025T010000
END:STANDARD
END:VTIMEZONE
BEGIN:VEVENT
DTSTART;TZID=UTC:20200303T183000
DTEND;TZID=UTC:20200303T183000
DTSTAMP:20260426T050635
CREATED:20190827T145442Z
LAST-MODIFIED:20200229T115517Z
UID:3530-1583260200-1583260200@nelh.net
SUMMARY:NEW TIME: 6:30pm. First Tuesday: Peter Sagar on History of the NUT in the North East
DESCRIPTION:The National Union of Teachers\, founded in 1870\, ceased to be on 1st January 2019\, as it merged fully with the Association of Teachers and Lecturers to become a new union\, the National Education Union. \nThis seemed to be an appropriate time to write a history of the NUT in North East England\, to chart its successes and its failures\, how it worked independently and how it worked in tandem with the rest of the union and labour movement. The result is a fascinating story\, which should be of interest to any teacher\, to any trade unionist and to anybody with an interest in the regional history of North East England.\nPeter Sagar will guide us through this history\, but in many respects do a lot more than this. He will also highlight the numerous ways in which we can learn from the history and use the knowledge to revive the trade union movement as we enter the third decade of the 21st century. \nThis will be a presentation which you should find both interesting and thought provoking.
URL:https://nelh.net/event/first-tuesday-peter-sagar-on-history-of-the-nut-in-the-north-east/
LOCATION:Old George Inn\, Old George Yard\, Newcastle\, NE1 1EZ
END:VEVENT
BEGIN:VEVENT
DTSTART;TZID=UTC:20200303T190000
DTEND;TZID=UTC:20200303T190000
DTSTAMP:20260426T050635
CREATED:20200301T170909Z
LAST-MODIFIED:20200301T171038Z
UID:3713-1583262000-1583262000@nelh.net
SUMMARY:Durham University: The History of Palestine
DESCRIPTION:From Sean Creighton\n\n\nThere is an event at the Lindisfarne Centre\, St Aidan’s College\, Windmill Hill\, Durham University DH1 3LJ next Tuesday 3 March at 7.00pm which includes discussion on the history of Palestine. For more information see St Aidan’s Palestine evening
URL:https://nelh.net/event/durham-university-the-history-of-palestine/
LOCATION:St Aidan’s College\, Windmill Hill\, Durham University\, DH1 3LJ
END:VEVENT
BEGIN:VEVENT
DTSTART;TZID=Europe/London:20200311T180000
DTEND;TZID=Europe/London:20200311T180000
DTSTAMP:20260426T050635
CREATED:20200309T203030Z
LAST-MODIFIED:20200310T191552Z
UID:3742-1583949600-1583949600@nelh.net
SUMMARY:EVENT CANCELLED. Northumbria University: Will Kaufman performs a live documentary - Woody Guthrie and “Old Man Trump”
DESCRIPTION:This event has been cancelled. The organisers hope to reschedule it and we will post once the new details become available.\n  \nAmerican Studies at Northumbria\, in collaboration with the Institute of the Humanities and the Tyneside Branch of the Historical Association present  \nWoody Guthrie and “Old Man Trump” \n  \nIn December 1950\, Woody Guthrie moved his family into a new apartment in Brooklyn’s Beach Haven. His new landlord\, it turned out\, was none other than Fred Trump\, father of the current US president. Over 60 years later\, Donald Trump would proclaim on the campaign trail: “My legacy is my father’s legacy.” It was\, among other things\, a legacy of corruption and race-hatred\, as Woody Guthrie soon found out.  \nWill Kaufman – singer\, multi-instrumentalist\, and Professor of American Studies at the University of Central Lancashire – is recognised as the world’s leading authority on Woody Guthrie. He is the author of Woody Guthrie\, American Radical (2011)\, Woody Guthrie’s Modern World Blues (2017)\, and Mapping Woody Guthrie (2019). \nIn 2014\, Will discovered\, buried in the Guthrie archives\, previously unpublished song lyrics and other writings condemning Fred Trump’s racism. He has now turned these discoveries into a new music and a spoken-word presentation\, following on from his celebrated shows\, Woody Guthrie: Hard Times and Hard Travelin’ and Woody Guthrie: The Long Road to Peekskill. \nWoody Guthrie and “Old Man Trump” brings to life all the anger and contempt that Guthrie felt for those in power who will deny justice to their fellow human beings on account of the colour of their skin. Against the backdrop of Guthrie’s racial awakening and emergent activism\, Will introduces such previously unheard songs as “Trump Made a Tramp Out of Me” and “Beach Haven Ain’t My Home\,” along with a host of other Guthrie songs about racial injustice and struggle. All in all\, we hear Woody Guthrie speaking and singing from beyond the grave\, warning us about the dangers of ignoring and repeating history. \n  \nPraise for Will Kaufman: \nListen up all you Jim Crow fascists and you race-hate mongers\, too:\nWill Kaufman is a-comin’ and he’s got his eye on you.\nWon’t brake for no excuses\, won’t stand no messin’ around\,\nYour bigot ways can’t save you ’cause Will Kaufman’s gonna run you down.\n– Ry Cooder \nNo one can understand the American people without listening to Woody Guthrie. Will Kaufman’s doing important work here. – Tom Paxton\n\nI thank Will Kaufman for introducing a new generation of Europeans to “the other America.” It’s a wonderful job he’s doing. – Pete Seeger\n\nWill presents this exhilarating show in the fastest hour and a half you are likely to witness when you consider the breadth and depth of his subject. He performs Woody’s songs with great skill and understanding\, playing the guitar\, banjo and fiddle with enviable panache and brio. His presentation is accomplished with great musicality\, wit\, honesty\, and compassion.  – Ralph McTell\n\nI so appreciate all of your efforts to take his legacy further. Who knows where he’ll end up! – Nora Guthrie\n \n \nwww.willkaufman.com
URL:https://nelh.net/event/northumbria-university-will-kaufman-performs-a-live-documentary-woody-guthrie-and-old-man-trump/
LOCATION:Room 020a\, Squires Building\, Northumbria University\, Newcastle upon Tyne\, NE1 8SB
END:VEVENT
BEGIN:VEVENT
DTSTART;VALUE=DATE:20200324
DTEND;VALUE=DATE:20200328
DTSTAMP:20260426T050635
CREATED:20200302T192505Z
LAST-MODIFIED:20200302T192620Z
UID:3728-1585015200-1585274399@nelh.net
SUMMARY:Newcastle University: 2020 Festival of Oral History
DESCRIPTION:We are delighted to announce the full programme for our 2020 Festival of Oral History\, taking place across March 24-26. The festival will focus on the future of oral history\, and will include a public keynote lecture by Dr Indira Chowdhury from the Srishti School of Art\, Design and Technology in Bangalore. \n\nThe festival will include a number of discussion panels on the future of oral history\, promoting discussion among practitioners and teachers on how oral historians can address future challenges and opportunities. \n\nPlease see the full programme of events here. To register for the festival\, email oralhistory@newcastle.ac.uk and please do let us know if you would like to be a discussant on any of the panels that have been organised.
URL:https://nelh.net/event/newcastle-university-2020-festival-of-oral-history/
LOCATION:Newcastle University
END:VEVENT
BEGIN:VEVENT
DTSTART;TZID=UTC:20200324T170000
DTEND;TZID=UTC:20200324T200000
DTSTAMP:20260426T050635
CREATED:20200301T171513Z
LAST-MODIFIED:20200301T171727Z
UID:3717-1585069200-1585080000@nelh.net
SUMMARY:Tyne Bank Brewery: Five Centuries of the Tyne
DESCRIPTION:From Leona Skelton\, Northumbria University \nI’ve organised a free Tyne history event with Tyne Rivers Trust at the Tyne Bank Brewery on Tuesday 24 March\, 5.00pm – 8.00pm which I think NELHS members could get a lot out of\, even though it’s focused on the management of the river first and foremost rather than labour history. Attendees need to register for a free ticket at the following link as places are limited. \nhttps://www.eventbrite.com/e/96057070283 \nThis a fun\, informal\, social event providing an opportunity to learn about the experiences and challenges of Tyne managers and conservators over five centuries. The evening comprises a pub quiz\, archival stories\, interactive discussions and a presentation to inspire us all to consider the challenges of working\, living and playing with the River Tyne over a longer-term chronology. \nUsing a ‘Tyneline’\, we will debate how and why our relationships with the Tyne have changed so dramatically over time and what this might mean for the river’s future. A buffet will be provided free of charge and the brewery bar will be open. \nThe event will be led by Dr. Leona Skelton\, an environmental historian of water\, rivers and sanitation infrastructure in Britain (1500 – present) at Northumbria University\, and author of Tyne after Tyne: An Environmental History of a River’s Battle for Protection\, 1529 – 2015
URL:https://nelh.net/event/tyne-bank-brewery-five-centuries-of-the-tyne/
LOCATION:Tyne Bank Brewery\, 375 Walker Rd\, Byker\,\, Newcastle upon Tyne\, NE6 2AB
END:VEVENT
BEGIN:VEVENT
DTSTART;TZID=UTC:20200327T190000
DTEND;TZID=UTC:20200327T190000
DTSTAMP:20260426T050635
CREATED:20200301T172811Z
LAST-MODIFIED:20200315T125628Z
UID:3724-1585335600-1585335600@nelh.net
SUMMARY:CANCELLED - Jesmond Library: Eileen: The Making of George Orwell
DESCRIPTION:This meeting has beeen cancelled as part of the measures to limit the Covid 19 outbreak.\nEileen: The Making of George Orwell\, an interview with biographer Sylvia Topp at Jesmond Library\, St. Georges Terrace NE2 2DL on Friday 27 March at 7.00pm \nThis is the never-before-told story of George Orwell’s first wife Eileen O’Shaughnessy\, who was born and brought up in South Shields and who shaped\, supported\, and even saved the life of one of the twentieth century’s great writers. \nSylvia\, who lives in Kingston\, Ontario will be in the UK to support the publication of Eileen in March.
URL:https://nelh.net/event/jesmond-library-eileen-the-making-of-george-orwell/
LOCATION:Jesmond Library\, St George's Terrace\, Newcastle upon Tyne\, NE2 2DL
END:VEVENT
END:VCALENDAR