BEGIN:VCALENDAR
VERSION:2.0
PRODID:-//North East Labour History - ECPv6.7.1//NONSGML v1.0//EN
CALSCALE:GREGORIAN
METHOD:PUBLISH
X-ORIGINAL-URL:https://nelh.net
X-WR-CALDESC:Events for North East Labour History
REFRESH-INTERVAL;VALUE=DURATION:PT1H
X-Robots-Tag:noindex
X-PUBLISHED-TTL:PT1H
BEGIN:VTIMEZONE
TZID:Europe/London
BEGIN:DAYLIGHT
TZOFFSETFROM:+0000
TZOFFSETTO:+0100
TZNAME:BST
DTSTART:20200329T010000
END:DAYLIGHT
BEGIN:STANDARD
TZOFFSETFROM:+0100
TZOFFSETTO:+0000
TZNAME:GMT
DTSTART:20201025T010000
END:STANDARD
END:VTIMEZONE
BEGIN:VEVENT
DTSTART;TZID=Europe/London:20201010T103000
DTEND;TZID=Europe/London:20201010T103000
DTSTAMP:20260425T170547
CREATED:20201002T172911Z
LAST-MODIFIED:20201002T222538Z
UID:3829-1602325800-1602325800@nelh.net
SUMMARY:Tommy Hepburn: Folk of Jarrow Commemoration on Saturday 10 October at the Joplin Monument at 10.30am.
DESCRIPTION:Please note that the planned Memorial Service on the 17 October has been cancelled.
URL:https://nelh.net/event/tommy-hepburn-folk-of-jarrow-commemoration-on-saturday-10-october-at-the-joplin-monument-at-10-30am/
LOCATION:Jobling Memorial\, Jarrow
END:VEVENT
END:VCALENDAR