BEGIN:VCALENDAR
VERSION:2.0
PRODID:-//North East Labour History - ECPv6.7.1//NONSGML v1.0//EN
CALSCALE:GREGORIAN
METHOD:PUBLISH
X-WR-CALNAME:North East Labour History
X-ORIGINAL-URL:https://nelh.net
X-WR-CALDESC:Events for North East Labour History
REFRESH-INTERVAL;VALUE=DURATION:PT1H
X-Robots-Tag:noindex
X-PUBLISHED-TTL:PT1H
BEGIN:VTIMEZONE
TZID:Europe/London
BEGIN:DAYLIGHT
TZOFFSETFROM:+0000
TZOFFSETTO:+0100
TZNAME:BST
DTSTART:20210328T010000
END:DAYLIGHT
BEGIN:STANDARD
TZOFFSETFROM:+0100
TZOFFSETTO:+0000
TZNAME:GMT
DTSTART:20211031T010000
END:STANDARD
END:VTIMEZONE
BEGIN:VEVENT
DTSTART;TZID=Europe/London:20210112T190000
DTEND;TZID=Europe/London:20210112T190000
DTSTAMP:20260425T124123
CREATED:20201208T114930Z
LAST-MODIFIED:20201223T110643Z
UID:3945-1610478000-1610478000@nelh.net
SUMMARY:Second Tuesday: Professor Ralph Darlington\, Analysing the Contexts and Causes of the 1910-14 Labour Revolt
DESCRIPTION:Join Zoom Meeting\nhttps://us02web.zoom.us/j/85812281578?pwd=WG90Y1Y5UFJYM1Vva003amYvcHBaQT09\nMeeting ID: 858 1228 1578\nPasscode: 383471 \nThe ‘Labour Unrest’ – or what more precisely should be termed ‘Labour Revolt’ – that swept Britain in the years leading up to the First World War between 1910 and 1914 was one of the most sustained\, dramatic and violent explosions of industrial militancy and social conflict the country has ever experienced. Most explanations for the causes of this strike wave have tended to focus almost exclusively on economic factors\, on the way in which the decline in real wages and purchasing power after 1900 and the sudden upturn in trade and employment after 1910 provided the major economic impetus for a series of wage demands that lead to strike action. Yet arguably\, even if the most commonly reported single cause of strikes was pay\, this hardly offers an adequate explanation\, by itself\, for the scale\, insurgent nature\, rank-and-file dynamic and broader political challenge of the industrial rebellion that swept Britain during this period. \nThis talk attempts to provide an understanding of the way in which there was a coalescence of a multifaceted set of interconnected contextual and casual elements (structure and agency) contributing to the process. Specifically it examines six features: the economic\, industrial and social backcloth; industrial relations and trade union framework; political context; bargaining capacity; leadership and mobilisation resources; and broader zeitgeist of defiance of the authorities and rule of law. In the process\, it assesses the limits and potential of George Dangerfield’s depiction in his celebrated book The Strange Death of Liberal England of a conjunction of three rebellions – by workers\, women and Irish nationalists – that had the cumulative effect of placing the country on the verge of semi-revolution. And there is consideration of the extent to which workers’ readiness to engage in militant strike action depended upon the subjective element – the encouragement they received from the minority of uncompromising working class socialist and syndicalist agitators and propagandists within their own ranks. \nRalph Darlington is Emeritus Professor of Employment Relations at the University of Salford. His research is concerned with the dynamics of trade union organisation\, activity and consciousness within both contemporary and historical settings. He is the author of The Dynamics of Workplace Unionism (Mansell 1994) and Radical Unionism: The Rise and Fall of Revolutionary Syndicalism (Haymarket 2013)\, co-author of Glorious Summer: Class Struggle in Britain 1972 (Bookmarks 2001) and editor of What’s the Point Of Industrial Relations: In Defence of Critical Social Science (2009). He is currently researching to write a book on the 1910-14 Labour Revolt to be published by Pluto Press. \n  \n 
URL:https://nelh.net/event/second-tuesday-professor-ralph-darlington-analysing-the-causes-of-the-1910-1914-labour-revolt/
LOCATION:Zoom
END:VEVENT
BEGIN:VEVENT
DTSTART;TZID=Europe/London:20210128T190000
DTEND;TZID=Europe/London:20210128T190000
DTSTAMP:20260425T124123
CREATED:20210125T143229Z
LAST-MODIFIED:20210125T143229Z
UID:4115-1611860400-1611860400@nelh.net
SUMMARY:Book launch: Sylvia Pankhurst Natural Born Rebel
DESCRIPTION:Online book launch of this major new biography with author Rachel Holmes in conversation with historian Mary Davis \nRegister here https://www.marx-memorial-library.org.uk/event/289 \nBorn into one of Britain’s most famous activist families\, Sylvia Pankhurst was a natural rebel; a talented artist\, prolific writer and a newspaper editor. A free spirit and radical visionary\, history placed her in the shadow of her famous mother\, Emmeline\, and elder sister\, Christabel. Yet Sylvia Pankhurst was the most revolutionary of them all. \nSylvia found her voice fighting militantly for votes for women\, but the vote was just the beginning of her lifelong defence of human rights. From her early warnings of the rise of fascism in Europe\, to her campaigning against racism and championing of the liberation struggles in Africa and India\, Sylvia’s adventures in America\, Soviet Russia\, Scandinavia\, Europe and East Africa made her a true internationalist. She was one of the great minds of the modern era\, engaging with political giants\, including Churchill\, Lenin\, Rosa Luxemburg\, George Bernard Shaw\, W.E.B. Du Bois and Haile Selassie. \nHolmes argues that Pankhurst’s campaigning reached far beyond the suffragette movement and in Sylvia Pankhurst she interweaves the personal and political to reveal Sylvia Pankhurst as never before. \nAttendees will receive the zoom link via eventbrite 24 hours in advance.
URL:https://nelh.net/event/book-launch-sylvia-pankhurst-natural-born-rebel/
LOCATION:Online
END:VEVENT
END:VCALENDAR