BEGIN:VCALENDAR
VERSION:2.0
PRODID:-//North East Labour History - ECPv6.7.1//NONSGML v1.0//EN
CALSCALE:GREGORIAN
METHOD:PUBLISH
X-WR-CALNAME:North East Labour History
X-ORIGINAL-URL:https://nelh.net
X-WR-CALDESC:Events for North East Labour History
REFRESH-INTERVAL;VALUE=DURATION:PT1H
X-Robots-Tag:noindex
X-PUBLISHED-TTL:PT1H
BEGIN:VTIMEZONE
TZID:Europe/London
BEGIN:DAYLIGHT
TZOFFSETFROM:+0000
TZOFFSETTO:+0100
TZNAME:BST
DTSTART:20210328T010000
END:DAYLIGHT
BEGIN:STANDARD
TZOFFSETFROM:+0100
TZOFFSETTO:+0000
TZNAME:GMT
DTSTART:20211031T010000
END:STANDARD
END:VTIMEZONE
BEGIN:VEVENT
DTSTART;TZID=Europe/London:20210406T190000
DTEND;TZID=Europe/London:20210406T203000
DTSTAMP:20260423T070620
CREATED:20210402T123142Z
LAST-MODIFIED:20210402T123142Z
UID:4412-1617735600-1617741000@nelh.net
SUMMARY:First Tuesday: Mike Fraser will talk about Sir William Beveridge – the Man\, the Report and the Berwick Division
DESCRIPTION:This meeting replaces Hannah Kent’s planned talk: “One Aim\, One God\, One Destiny”? which has been cancelled. \n—————————————————————————————————————————————– \nSir William Beveridge was the hugely popular architect of the welfare state who became Liberal MP for Berwick in 1944 only to be swept away in the Labour landslide of 1945. Mike will discuss his early life\, his report\, the reasons for his defeat at Berwick and his subsequent career. \nJoin Zoom Meeting \nhttps://us02web.zoom.us/j/86991301904?pwd=S1loS2tsMzZHdFRKa2sxa0cwM1VyQT09 \nMeeting ID: 869 9130 1904 \nPasscode: 149601 \nMike lives in Berwick-upon-Tweed and writes and lectures on Northumberland political life.
URL:https://nelh.net/event/first-tuesday-mike-fraser-will-talk-about-sir-william-beveridge-the-man-the-report-and-the-berwick-division/
LOCATION:Zoom
END:VEVENT
END:VCALENDAR