BEGIN:VCALENDAR
VERSION:2.0
PRODID:-//North East Labour History - ECPv6.7.1//NONSGML v1.0//EN
CALSCALE:GREGORIAN
METHOD:PUBLISH
X-ORIGINAL-URL:https://nelh.net
X-WR-CALDESC:Events for North East Labour History
REFRESH-INTERVAL;VALUE=DURATION:PT1H
X-Robots-Tag:noindex
X-PUBLISHED-TTL:PT1H
BEGIN:VTIMEZONE
TZID:Europe/London
BEGIN:DAYLIGHT
TZOFFSETFROM:+0000
TZOFFSETTO:+0100
TZNAME:BST
DTSTART:20210328T010000
END:DAYLIGHT
BEGIN:STANDARD
TZOFFSETFROM:+0100
TZOFFSETTO:+0000
TZNAME:GMT
DTSTART:20211031T010000
END:STANDARD
END:VTIMEZONE
BEGIN:VEVENT
DTSTART;TZID=Europe/London:20211209T190000
DTEND;TZID=Europe/London:20211209T230000
DTSTAMP:20260422T192113
CREATED:20211112T105937Z
LAST-MODIFIED:20211113T114626Z
UID:5008-1639076400-1639090800@nelh.net
SUMMARY:Midnight Traveller: a Film Night with Tyneside Welcomes. Black Swan Centre\, Newcastle
DESCRIPTION:A showing of “Midnight Traveller”\, a multi-award winning documentary film by Hassan Fazili filmed by the Fazili family as they document their journey from their home in Afghanistan to Europe seeking safety. \nDetails and Booking here.\nThe film will be followed by a live question and answer session with the director from Germany via zoom\, and an opportunity to socialise. \nRotten Tomatoes gives this film 100% \nThis showing is organised by Tyneside Welcomes which works to resettle refugees from the Syrian War.
URL:https://nelh.net/event/tyneside-welcomes-film-night-black-swan-centre-newcastle-midnight-traveller/
LOCATION:Black Swan Centre\, Newcastle Arts Centre\, 67 Westgate Road\, Newcastle upon Tyne\, NE1 1SG
END:VEVENT
BEGIN:VEVENT
DTSTART;TZID=Europe/London:20211209T193000
DTEND;TZID=Europe/London:20211209T210000
DTSTAMP:20260422T192113
CREATED:20211207T232904Z
LAST-MODIFIED:20211207T232904Z
UID:5022-1639078200-1639083600@nelh.net
SUMMARY:Tyneside Irish Centre (Zoom). Prof Marie Coleman will talk about: Who were the Black & Tans? The Crown Forces in Ireland during the War of Independence
DESCRIPTION:Professor Coleman will look at all the different groupings within the Crown Forces – Army\, RIC\, Tans\, Auxiliaries\, B Specials etc. She is particularly keen to examine the social composition of the Tans and Auxiliaries in particular and will be covering the controversy over the commemoration plans in 2020. \nMarie Coleman is Professor of Twentieth Century Irish History at Queen’s University\, Belfast. \nThe event is part of the Tyneside Irish Centre’s series of 1921 Centenary talks. \nClick here to register and get the zoom link https://us02web.zoom.us/webinar/register/WN_M9Su18K7Q-eF9qjqUbMa_w \n\n 
URL:https://nelh.net/event/tyneside-irish-centre-zoom-prof-marie-coleman-will-talk-about-who-were-the-black-tans-the-crown-forces-in-ireland-during-the-war-of-independence/
LOCATION:Zoom
END:VEVENT
BEGIN:VEVENT
DTSTART;TZID=Europe/London:20211214T190000
DTEND;TZID=Europe/London:20211214T210000
DTSTAMP:20260422T192113
CREATED:20211208T120853Z
LAST-MODIFIED:20211208T120853Z
UID:5024-1639508400-1639515600@nelh.net
SUMMARY:The Society's Christmas Quiz
DESCRIPTION:The Society’s Christmas Quiz takes place next Tuesday 14 December at 7.00pm \n\n\nPeter Brabban and Pat Candon will test your historical knowledge (to its limit) and after that you are welcome to stay for the ‘chat’. \n\n\nJoin Zoom Meeting \n\n\nhttps://us02web.zoom.us/j/84946680511?pwd=NEdSNFdDd1JLZFEwS1ZwYTlYOHNJdz09 \n\n\nMeeting ID: 849 4668 0511 \n\nPasscode: 918050
URL:https://nelh.net/event/the-societys-christmas-quiz/
LOCATION:Zoom
END:VEVENT
END:VCALENDAR