BEGIN:VCALENDAR
VERSION:2.0
PRODID:-//North East Labour History - ECPv6.7.1//NONSGML v1.0//EN
CALSCALE:GREGORIAN
METHOD:PUBLISH
X-WR-CALNAME:North East Labour History
X-ORIGINAL-URL:https://nelh.net
X-WR-CALDESC:Events for North East Labour History
REFRESH-INTERVAL;VALUE=DURATION:PT1H
X-Robots-Tag:noindex
X-PUBLISHED-TTL:PT1H
BEGIN:VTIMEZONE
TZID:Europe/London
BEGIN:DAYLIGHT
TZOFFSETFROM:+0000
TZOFFSETTO:+0100
TZNAME:BST
DTSTART:20220327T010000
END:DAYLIGHT
BEGIN:STANDARD
TZOFFSETFROM:+0100
TZOFFSETTO:+0000
TZNAME:GMT
DTSTART:20221030T010000
END:STANDARD
END:VTIMEZONE
BEGIN:VEVENT
DTSTART;TZID=Europe/London:20220319T090000
DTEND;TZID=Europe/London:20220319T165000
DTSTAMP:20260422T145401
CREATED:20220303T114201Z
LAST-MODIFIED:20220303T114228Z
UID:5090-1647680400-1647708600@nelh.net
SUMMARY:Leeds University: Chartism Day 2022 in honour of Professor Malcolm Chase
DESCRIPTION:From the Society for the Study of Labour History \nChartism Day returns in March 2022 after an enforced absence of two years. This year’s event\, held jointly with the Social History Society\, is in honour of Professor Malcolm Chase\, who died in February 2020. Malcolm was a great historian of Chartism\, a stalwart of the Society for the Study of Labour History over many years\, and a central figure at Chartism Days. \nChartism Day 2022: Register here to attend \n 
URL:https://nelh.net/event/leeds-university-chartism-day-2022-in-honour-of-professor-malcolm-chase/
LOCATION:University of Leeds
END:VEVENT
BEGIN:VEVENT
DTSTART;VALUE=DATE:20220325
DTEND;VALUE=DATE:20220404
DTSTAMP:20260422T145401
CREATED:20220213T135424Z
LAST-MODIFIED:20220213T135424Z
UID:5078-1648173600-1648951199@nelh.net
SUMMARY:Various locations: Wor Bella\, Blyth Spartans Ladies. A play by Ed Waugh
DESCRIPTION:Click on image for full size
URL:https://nelh.net/event/various-locations-wor-bella-blyth-spartans-ladies-a-play-by-ed-waugh/
END:VEVENT
BEGIN:VEVENT
DTSTART;TZID=Europe/London:20220325T193000
DTEND;TZID=Europe/London:20220325T210000
DTSTAMP:20260422T145401
CREATED:20220117T220607Z
LAST-MODIFIED:20220318T154553Z
UID:5039-1648236600-1648242000@nelh.net
SUMMARY:Tyneside Irish Centre: Sylvia Topp\, Remembering Eileen O'Shaughnessy
DESCRIPTION:In conjunction with the Orwell Society\, we are hosting an in person meeting at the Tyneside Irish Centre\, Friday 25 March at 7.30pm when Sylvia Topp will be in conversation with North East History editor\, Rosie Serdiville about her recently published biography of Eileen O’Shaughnessy\, Eileen: The Making of George Orwell. This meeting will also be livestreamed (see below). \nEileen was born in South Shields in 1905\, married George Orwell in 1936 and sadly died in a Newcastle hospital at the relatively young age of forty. \nSylvia Topp has worked in publishing since college\, starting as a copy writer on medical journals\, then moving to freelancing editing at a major literary publishing houses.  \n\nShe was the long-time wife and partner of Tuli Kupferberg\, a Beat poet who later was a co-founder\, in 1964\, of the Fugs\, a legendary rock and roll band. Together Sylvia and Tuli wrote\, edited\, and designed over thirty books and magazines\, including As They Were\, 1001 Ways to Live Without Working\, and Yeah! magazine.\n\nSylvia joined the staff at The Soho Weekly News and later The Village Voice\, before finishing her publishing career at Vanity Fair. Eileen is her first book. She lives in Kingston\, Ontario.  \nThe meeting will be livestreamed.  \n\nYou are invited to a Zoom webinar.\nWhen: Mar 25\, 2022 07:30 PM London\nTopic: Eileen: A Life – a conversation with Sylvia Topp \nRegister in advance for this webinar:\nhttps://us02web.zoom.us/webinar/register/WN_9gCrRs1XRWWA7RR6FrXJog \nThis is part of a visit by members of the Orwell Society who will be on Tyneside from 25 to 27 March to commemorate the life of Eileen O’Shaughnessy.
URL:https://nelh.net/event/tyneside-irish-centre-pandemic-permitting-remembering-eileen-oshaughnessy/
LOCATION:Tyneside Irish Centre\, 43 Gallowgate\, Newcastle upon Tyne\, NE1 4SG\, United Kingdom
END:VEVENT
BEGIN:VEVENT
DTSTART;TZID=Europe/London:20220326T140000
DTEND;TZID=Europe/London:20220326T153000
DTSTAMP:20260422T145401
CREATED:20220206T112446Z
LAST-MODIFIED:20220206T112559Z
UID:5061-1648303200-1648308600@nelh.net
SUMMARY:The Word\, South Shields. Sylvia Topp will talk about her book Eileen: The Making of George Orwell
DESCRIPTION:BOOKING REQUIRED: BOOK HERE  Suitable for ages 16+\nSylvia Topp\, author of the novel Eileen: The Making of George Orwell\, will be joining us at The Word to discuss her book which is the never before told story of George Orwell’s first wife\, Eileen O’Shaughnessy\, a woman born in South Shields who shaped\, supported and even saved the life of one of the 20th century’s greatest writers. \nThe event will also include Jarrow-born Tom Kelly ‘in conversation’ with Richard Blair\, the adopted son of author George Orwell and patron of the Orwell Society\, and there will be an opportunity for the audience to ask their questions. \nDuring the event\, there will be a showing of Gary Wilkinson’s Wildflower film\, about Eileen O’Shaughnessy\, and Tom Kelly will also read his poem about Eileen\, titled You\, you\, you. \nCopies of Sylvia’s book will be available to buy at the event. \nThe event has been planned with The Word by The Orwell Society whose members are in South Shields for a weekend of events originally scheduled for March 2020\, which would have been the 75th anniversary of Eileen’s sadly premature death. \nThe Orwell Society is at https://orwellsociety.com/
URL:https://nelh.net/event/the-word-south-shields-sylvia-topp-will-talk-about-her-book-eileen-the-making-of-george-orwell/
LOCATION:The Word\, 45 Market Place\, South Shields\, NE33 1JF
END:VEVENT
BEGIN:VEVENT
DTSTART;TZID=Europe/London:20220327T110000
DTEND;TZID=Europe/London:20220327T120000
DTSTAMP:20260422T145401
CREATED:20220206T114425Z
LAST-MODIFIED:20220207T145502Z
UID:5068-1648378800-1648382400@nelh.net
SUMMARY:NOW INVITATION ONLY: South Shields: Unveiling of a Blue Plaque for Eileen O'Shaughnessy
DESCRIPTION:Apologies for this change of plan. This unveiling is now by invitation only as space is limited.
URL:https://nelh.net/event/south-shields-unveiling-of-a-blue-plaque-for-eileen-oshaughnessy/
END:VEVENT
BEGIN:VEVENT
DTSTART;VALUE=DATE:20220329
DTEND;VALUE=DATE:20220411
DTSTAMP:20260422T145401
CREATED:20220330T111515Z
LAST-MODIFIED:20220330T112106Z
UID:5109-1648519200-1649555999@nelh.net
SUMMARY:Northern Stage\, Newcastle: Red Ellen - The Story of Ellen Wilkinson MP
DESCRIPTION:“A working class woman inside the walls of Westminster? If that is not espionage\, I do not know what is.“\nA Northern Stage\, Nottingham Playhouse & Royal Lyceum Theatre Edinburgh production\nBooking details here \n \nThis remarkable new play from Caroline Bird tells the inspiring and epic story of Ellen Wilkinson\, Labour MP\, who was forever on the right side of history\, forever on the wrong side of life. \nCaught between revolutionary and parliamentary politics\, Ellen fights with an unstoppable\, reckless energy for a better world. Running (quite literally in some cases) into the likes of Albert Einstein and Ernest Hemingway\, she battles to save Jewish refugees in Nazi Germany; campaigns for Britain to aid the fight against Franco’s Fascists in Spain; and leads 200 workers in the Jarrow Crusade\, marching from Newcastle through Nottingham and the Midlands\, all the way to London delivering a petition to reduce unemployment and poverty. She serves as a vital member of Churchill’s cabinet\, and has affairs with communist spies and government ministers. But\, despite all of this\, she still finds herself – somehow – on the outside looking in.​ \nThis is the story of Ellen Wilkinson. \nThere is more than one way to kill a revolutionary… \nPreview performances: Tue 29 – Thu 31 Mar \nPreview performances give audiences the opportunity to be one of the first to see a new show. During previews\, the show is still being developed and changes may still be made ahead of the official press night. As the show is still being developed\, tickets are a little cheaper than our regular prices. We will always try to give you the best experience no matter what show you attend but if there are a few hitches on the night then we appreciate your patience and goodwill while we polish the show. \n 
URL:https://nelh.net/event/northern-stage-newcastle-red-ellen-the-story-of-ellen-wilkinson-mp/
LOCATION:Northern Stage\, Barras BridgeNE1 7RH\, Newcastle Upon Tyne\, NE1 7RH
END:VEVENT
END:VCALENDAR