BEGIN:VCALENDAR
VERSION:2.0
PRODID:-//North East Labour History - ECPv6.7.1//NONSGML v1.0//EN
CALSCALE:GREGORIAN
METHOD:PUBLISH
X-WR-CALNAME:North East Labour History
X-ORIGINAL-URL:https://nelh.net
X-WR-CALDESC:Events for North East Labour History
REFRESH-INTERVAL;VALUE=DURATION:PT1H
X-Robots-Tag:noindex
X-PUBLISHED-TTL:PT1H
BEGIN:VTIMEZONE
TZID:Europe/London
BEGIN:DAYLIGHT
TZOFFSETFROM:+0000
TZOFFSETTO:+0100
TZNAME:BST
DTSTART:20260329T010000
END:DAYLIGHT
BEGIN:STANDARD
TZOFFSETFROM:+0100
TZOFFSETTO:+0000
TZNAME:GMT
DTSTART:20261025T010000
END:STANDARD
END:VTIMEZONE
BEGIN:VEVENT
DTSTART;TZID=Europe/London:20260314T100000
DTEND;TZID=Europe/London:20260314T120000
DTSTAMP:20260421T040406
CREATED:20260224T130922Z
LAST-MODIFIED:20260224T131319Z
UID:6462-1773482400-1773489600@nelh.net
SUMMARY:Chester le Street: Relaunch of the South Pelaw Miners Banner 
DESCRIPTION:The South Pelaw Miners Banner  needed a new home- where better than the local school where the children would grow up knowing of their proud mining heritage? A grant from Durham County Council’s Labour local Councillor Tracie Smith has paid for the restoration of the banner and its fine oak case . \nThis delicate silk banner was first unfurled on 23 July 1949 by Jack Lawson MP with portraits of  AJ Cook and Peter Lee. On the reverse is the Hermitage\, the grand house in Chester l e street acquired by the Durham Miners’ Welfare Committee for the rehabilitation of injured miners . \n \nThe restoration complete we are giving it a fine new launch on Saturday 14 March at 10 am in the Chester le Street CE Primary school hall.
URL:https://nelh.net/event/chester-le-street-relaunch-of-the-south-pelaw-miners-banner/
LOCATION:Chester-Le-Street C of E Junior School\, Hilda Park\, South Pelaw\,\, Chester-le-Street
END:VEVENT
END:VCALENDAR